BEGIN:VCALENDAR
PRODID:-//AT Content Types//AT Event//EN
VERSION:2.0
METHOD:PUBLISH
BEGIN:VEVENT
DTSTAMP:20260419T181101Z
CREATED:20240517T080104Z
UID:ATEvent-a8022ea28bd94f109888866dda2654b1
LAST-MODIFIED:20240719T082125Z
SUMMARY:Adaptive and Learning Control Systems - 15th ALCOS 2025 ™
DTSTART:20250702T080000Z
DTEND:20250704T080000Z
DESCRIPTION:IFAC Workshop on
LOCATION:Mexico City\, MEXICO
CONTACT:alcos2025@itam.mx
URL:https://alcos2025.itam.mx/
CLASS:PUBLIC
END:VEVENT
END:VCALENDAR
