BEGIN:VCALENDAR
PRODID:-//AT Content Types//AT Event//EN
VERSION:2.0
METHOD:PUBLISH
BEGIN:VEVENT
DTSTAMP:20260419T153215Z
CREATED:20161010T071842Z
UID:ATEvent-4db311b92100428da81fadcf01bca4c5
LAST-MODIFIED:20161010T072008Z
SUMMARY:Advanced Systems and Electrical Technologies - IC_ASET 2017
DTSTART:20170114T082000Z
DTEND:20170117T082000Z
DESCRIPTION:ASET\, IFAC\, IEEE International Conference on
LOCATION:Hammamet\, TUNISIA
URL:http://aset.ieee.tn/
CLASS:PUBLIC
END:VEVENT
END:VCALENDAR
