BEGIN:VCALENDAR
PRODID:-//AT Content Types//AT Event//EN
VERSION:2.0
METHOD:PUBLISH
BEGIN:VEVENT
DTSTAMP:20260423T090659Z
CREATED:20150423T073127Z
UID:ATEvent-4aae68c33f644333989224b4d0fe522f
LAST-MODIFIED:20150424T165428Z
SUMMARY:Advances in Control and Optimization of Dynamical Systems - ACODS 2016
DTSTART:20160201T082500Z
DTEND:20160205T082500Z
DESCRIPTION:ACDOS IFAC IEEE (Madras Section & Bangalore Section) Confe
 rence on
LOCATION:NIT Tiruchirappalli\, INDIA
CONTACT:acods.2016@nitt.edu
URL:http://acods2016.nitt.edu/
CLASS:PUBLIC
END:VEVENT
END:VCALENDAR
