BEGIN:VCALENDAR
PRODID:-//AT Content Types//AT Event//EN
VERSION:1.0
BEGIN:VEVENT
DTSTART:20240722T075500Z
DTEND:20240724T075500Z
DCREATED:20231128T085255Z
UID:ATEvent-9ccba51cbd3947bd9af8e13f5ba24a95
SEQUENCE:0
LAST-MODIFIED:20240103T082721Z
SUMMARY:Aerospace Control Education - 2nd WACE 2024™
DESCRIPTION:IFAC Workshop on
LOCATION:Bertinoro (Forlì)\, ITALY
PRIORITY:3
TRANSP:0
END:VEVENT
END:VCALENDAR
