BEGIN:VCALENDAR
PRODID:-//AT Content Types//AT Event//EN
VERSION:2.0
METHOD:PUBLISH
BEGIN:VEVENT
DTSTAMP:20260420T160801Z
CREATED:20250116T074035Z
UID:ATEvent-2eb9c604606e4b429a8aebd7ecd8c96b
LAST-MODIFIED:20250116T074039Z
SUMMARY:American Control Conference (in cooperation with IFAC) - ACC 2025
DTSTART:20250708T064000Z
DTEND:20250711T064000Z
DESCRIPTION:AACC\, IFAC\, et al. Conference on
LOCATION:Denver (CO)\, USA
URL:https://acc2025.a2c2.org/
CLASS:PUBLIC
END:VEVENT
END:VCALENDAR
