BEGIN:VCALENDAR
PRODID:-//AT Content Types//AT Event//EN
VERSION:1.0
BEGIN:VEVENT
DTSTART:20270721T084500Z
DTEND:20270723T084500Z
DCREATED:20260423T084550Z
UID:ATEvent-0e339fe299324efa8fb0b09bd6462207
SEQUENCE:0
LAST-MODIFIED:20260423T084559Z
SUMMARY:Analysis and Design of Hybrid Systems - 9th ADHS 2027™
DESCRIPTION:IFAC Conference on
LOCATION:L'Aquila\, ITALY
PRIORITY:3
TRANSP:0
END:VEVENT
END:VCALENDAR
