BEGIN:VCALENDAR
PRODID:-//AT Content Types//AT Event//EN
VERSION:1.0
BEGIN:VEVENT
DTSTART:20240201T084500Z
DTEND:20240202T084500Z
DCREATED:20230302T084642Z
UID:ATEvent-c4e010bae56c481198ed68c37f9150dd
SEQUENCE:0
LAST-MODIFIED:20230302T084648Z
SUMMARY:Australian & New Zealand Control Conference (in cooperation with IFAC) - ANZCC 2024
DESCRIPTION:Conference on
LOCATION:Gold Coast\, AUSTRALIA
PRIORITY:3
TRANSP:0
END:VEVENT
END:VCALENDAR
