BEGIN:VCALENDAR
PRODID:-//AT Content Types//AT Event//EN
VERSION:1.0
BEGIN:VEVENT
DTSTART:20240911T091500Z
DTEND:20240913T091500Z
DCREATED:20230517T091350Z
UID:ATEvent-f9f776b7595e4a39b23109221c9175da
SEQUENCE:0
LAST-MODIFIED:20240125T082449Z
SUMMARY:Biological and Medical Systems - 12th BMS 2024™
DESCRIPTION:IFAC Symposium on
LOCATION:Villingen-Schwenningen\, GERMANY
PRIORITY:3
TRANSP:0
END:VEVENT
END:VCALENDAR
