BEGIN:VCALENDAR
PRODID:-//AT Content Types//AT Event//EN
VERSION:1.0
BEGIN:VEVENT
DTSTART:20160913T103000Z
DTEND:20160916T103000Z
DCREATED:20150803T103032Z
UID:ATEvent-c2ed2d250ca24d57a5a67333bb27134f
SEQUENCE:0
LAST-MODIFIED:20190918T083420Z
SUMMARY:Control Applications in Marine Systems - 10th CAMS 2016™
DESCRIPTION:IFAC Conference on
LOCATION:Trondheim\, NORWAY
PRIORITY:3
TRANSP:0
END:VEVENT
END:VCALENDAR
