BEGIN:VCALENDAR
PRODID:-//AT Content Types//AT Event//EN
VERSION:1.0
BEGIN:VEVENT
DTSTART:20151006T115000Z
DTEND:20151009T115000Z
DCREATED:20141217T125113Z
UID:ATEvent-80eb77b5ca8f49fea28d34c1e8298e5d
SEQUENCE:0
LAST-MODIFIED:20190918T152824Z
SUMMARY:Control Applications of Optimization - 16th CAO 2015™
DESCRIPTION:IFAC Workshop on
LOCATION:Garmisch-Partenkirchen /Murnau\, GERMANY
PRIORITY:3
TRANSP:0
END:VEVENT
END:VCALENDAR
