BEGIN:VCALENDAR
PRODID:-//AT Content Types//AT Event//EN
VERSION:1.0
BEGIN:VEVENT
DTSTART:20250211T101000Z
DTEND:20250213T101000Z
DCREATED:20240926T090835Z
UID:ATEvent-1284107718c64a1cb89c06a5c2a63c5f
SEQUENCE:0
LAST-MODIFIED:20240926T090842Z
SUMMARY:Control\, Automation\, and Instrumentation - IC2AI 2025
DESCRIPTION:IEEE/IFAC Conference on
LOCATION:Beirut\, LEBANON
PRIORITY:3
TRANSP:0
END:VEVENT
END:VCALENDAR
