BEGIN:VCALENDAR
PRODID:-//AT Content Types//AT Event//EN
VERSION:1.0
BEGIN:VEVENT
DTSTART:20220627T102000Z
DTEND:20220630T102000Z
DCREATED:20210512T101851Z
UID:ATEvent-bf3f2a2b11d043ccb38f23f45c42a4b6
SEQUENCE:0
LAST-MODIFIED:20211018T065009Z
SUMMARY:Control for Smart Cities – CSC 2022™
DESCRIPTION:IFAC Workshop on
LOCATION:Sozopol\, BULGARIA
PRIORITY:3
TRANSP:0
END:VEVENT
END:VCALENDAR
