BEGIN:VCALENDAR
PRODID:-//AT Content Types//AT Event//EN
VERSION:2.0
METHOD:PUBLISH
BEGIN:VEVENT
DTSTAMP:20260420T094543Z
CREATED:20200318T102857Z
UID:ATEvent-96e79fa25b5d4b0d898391342076c20c
LAST-MODIFIED:20220406T101836Z
SUMMARY:Control of Power and Energy Systems - 11th CPES 2022™
DTSTART:20220621T093000Z
DTEND:20220623T093000Z
DESCRIPTION:IFAC Symposium on
LOCATION:online
URL:https://cpes2021.com/
CLASS:PUBLIC
END:VEVENT
END:VCALENDAR
