BEGIN:VCALENDAR
PRODID:-//AT Content Types//AT Event//EN
VERSION:1.0
BEGIN:VEVENT
DTSTART:20240710T094000Z
DTEND:20240712T094000Z
DCREATED:20230425T094012Z
UID:ATEvent-14752e60c7bf4c00828596d0598eac1c
SEQUENCE:0
LAST-MODIFIED:20230728T064000Z
SUMMARY:Control of Power and Energy Systems - 12th CPES 2024™
DESCRIPTION:IFAC Symposium on
LOCATION:Rabat\, MOROCCO
PRIORITY:3
TRANSP:0
END:VEVENT
END:VCALENDAR
