BEGIN:VCALENDAR
PRODID:-//AT Content Types//AT Event//EN
VERSION:1.0
BEGIN:VEVENT
DTSTART:20270610T114000Z
DTEND:20270612T114000Z
DCREATED:20260423T114211Z
UID:ATEvent-ad16dd130ad245a9bf70d8176913c313
SEQUENCE:0
LAST-MODIFIED:20260423T114216Z
SUMMARY:Control of Power and Energy Systems - 13th CPES 2027™
DESCRIPTION:IFAC Symposium on
LOCATION:Cluj-Napoca\, ROMANIA
PRIORITY:3
TRANSP:0
END:VEVENT
END:VCALENDAR
