BEGIN:VCALENDAR
PRODID:-//AT Content Types//AT Event//EN
VERSION:2.0
METHOD:PUBLISH
BEGIN:VEVENT
DTSTAMP:20260423T064614Z
CREATED:20180124T081522Z
UID:ATEvent-add498981b1f47b48d36cbdc0e39139b
LAST-MODIFIED:20190917T122530Z
SUMMARY:Control of Smart Grid and Renewable Energy Systems - CSGRES 2019™
DTSTART:20190610T071500Z
DTEND:20190612T071500Z
DESCRIPTION:IFAC Workshop on
LOCATION:Jeju\, REPUBLIC OF KOREA
CONTACT:yilee@seoultech.ac.kr
URL:http://csgres2019.com/
CLASS:PUBLIC
END:VEVENT
END:VCALENDAR
