BEGIN:VCALENDAR
PRODID:-//AT Content Types//AT Event//EN
VERSION:1.0
BEGIN:VEVENT
DTSTART:20161207T073000Z
DTEND:20161209T073000Z
DCREATED:20151014T063213Z
UID:ATEvent-ad80a9c2bb38402aa74be3e4d8664a53
SEQUENCE:0
LAST-MODIFIED:20190918T084028Z
SUMMARY:Cyber-Physical & Human-Systems - 1st CPHS 2016™
DESCRIPTION:IFAC IEEE\, EECI\, NSF Conference on
LOCATION:Florianopolis\, BRAZIL
PRIORITY:3
TRANSP:0
END:VEVENT
END:VCALENDAR
