BEGIN:VCALENDAR
PRODID:-//AT Content Types//AT Event//EN
VERSION:2.0
METHOD:PUBLISH
BEGIN:VEVENT
DTSTAMP:20260419T143426Z
CREATED:20211008T093252Z
UID:ATEvent-5d5bddf7540e448c9db0c9ce86c95490
LAST-MODIFIED:20211027T084609Z
SUMMARY:Discrete Event Systems - 16th WODES 2022
DTSTART:20220907T093500Z
DTEND:20220909T093500Z
DESCRIPTION:IFAC Workshop on
LOCATION:Prague\, CZECH REPUBLIC
URL:https://wodes2022.math.cas.cz/
CLASS:PUBLIC
END:VEVENT
END:VCALENDAR
