BEGIN:VCALENDAR
PRODID:-//AT Content Types//AT Event//EN
VERSION:2.0
METHOD:PUBLISH
BEGIN:VEVENT
DTSTAMP:20260425T225358Z
CREATED:20141217T125810Z
UID:ATEvent-9041824545b34e7998280197cd3c332c
LAST-MODIFIED:20190918T153239Z
SUMMARY:Distributed Estimation and Control in Networked Systems - 5th NecSys 2015™
DTSTART:20150910T115500Z
DTEND:20150911T115500Z
DESCRIPTION:IFAC University of Pennsylvania Workshop on
LOCATION:Philadelphia\, USA
URL:http://necsys2015.seas.upenn.edu/index.html
CLASS:PUBLIC
END:VEVENT
END:VCALENDAR
