BEGIN:VCALENDAR
PRODID:-//AT Content Types//AT Event//EN
VERSION:1.0
BEGIN:VEVENT
DTSTART:20160908T075500Z
DTEND:20160909T075500Z
DCREATED:20151112T085558Z
UID:ATEvent-be91be4875d74c77af4d58d56322b9a4
SEQUENCE:0
LAST-MODIFIED:20190918T084141Z
SUMMARY:Distributed Estimation and Control in Networked Systems - 6th NecSys 2016™
DESCRIPTION:IFAC\, Tokyo Institute of Techn. Workshop on
LOCATION:Tokyo\, JAPAN
PRIORITY:3
TRANSP:0
END:VEVENT
END:VCALENDAR
