BEGIN:VCALENDAR
PRODID:-//AT Content Types//AT Event//EN
VERSION:2.0
METHOD:PUBLISH
BEGIN:VEVENT
DTSTAMP:20260423T144522Z
CREATED:20181003T092101Z
UID:ATEvent-ffd6ee60ce614bdbbb09e4196634e802
LAST-MODIFIED:20190916T102425Z
SUMMARY:Distributed Estimation and Control in Networked Systems - 8th NECSYS 2019™
DTSTART:20190916T092000Z
DTEND:20190917T092000Z
DESCRIPTION:IFAC Workshop on
LOCATION:Chicago (Wintrust Hall)\, IL\, USA
URL:http://necsys2019.csl.illinois.edu
CLASS:PUBLIC
END:VEVENT
END:VCALENDAR
