BEGIN:VCALENDAR
PRODID:-//AT Content Types//AT Event//EN
VERSION:2.0
METHOD:PUBLISH
BEGIN:VEVENT
DTSTAMP:20260420T213942Z
CREATED:20170522T091531Z
UID:ATEvent-437934ef671d4815b36cb2a39ebc7d56
LAST-MODIFIED:20190918T085034Z
SUMMARY:Embedded Systems\, Computational Intelligence and Telematics in Control - 3rd CESCIT 2018™
DTSTART:20180606T091000Z
DTEND:20180608T091000Z
DESCRIPTION:IFAC Conference on
LOCATION:Faro\, PORTUGAL
CONTACT:geral@untappedevents.pt
URL:http://www.cescit2018.org/
CLASS:PUBLIC
END:VEVENT
END:VCALENDAR
