BEGIN:VCALENDAR
PRODID:-//AT Content Types//AT Event//EN
VERSION:1.0
BEGIN:VEVENT
DTSTART:20150823T105500Z
DTEND:20150826T105500Z
DCREATED:20141217T115523Z
UID:ATEvent-37bdf050f820408aad83aeb0f99d4ca1
SEQUENCE:0
LAST-MODIFIED:20190917T121436Z
SUMMARY:Engine and Powertrain Control\, Simulation and Modeling - 4th E-COSM 2015™
DESCRIPTION:IFAC Workshop on
LOCATION:Columbus\, OH\, USA
PRIORITY:3
TRANSP:0
END:VEVENT
END:VCALENDAR
