BEGIN:VCALENDAR
PRODID:-//AT Content Types//AT Event//EN
VERSION:1.0
BEGIN:VEVENT
DTSTART:20180920T092500Z
DTEND:20180922T092500Z
DCREATED:20170403T092624Z
UID:ATEvent-598787d3925f4a7ab7a3761071fa7fd1
SEQUENCE:0
LAST-MODIFIED:20190918T084737Z
SUMMARY:Engine and Powertrain Control\, Simulation and Modeling - 5th E-COSM 2018™
DESCRIPTION:IFAC Conference on
LOCATION:Changchun\, CHINA
PRIORITY:3
TRANSP:0
END:VEVENT
END:VCALENDAR
