BEGIN:VCALENDAR
PRODID:-//AT Content Types//AT Event//EN
VERSION:2.0
METHOD:PUBLISH
BEGIN:VEVENT
DTSTAMP:20260424T084100Z
CREATED:20180423T063451Z
UID:ATEvent-1e0a4ea954584c6782e3c2011c327b79
LAST-MODIFIED:20180617T150506Z
SUMMARY:European Control Conference (in cooperation with IFAC) - ECC 2019
DTSTART:20190625T063500Z
DTEND:20190628T063500Z
DESCRIPTION:EUCA\, IFAC\, IEEE CSS Conference on
LOCATION:Naples\, ITALY
URL:http://ecc19.eu/
CLASS:PUBLIC
END:VEVENT
END:VCALENDAR
