BEGIN:VCALENDAR
PRODID:-//AT Content Types//AT Event//EN
VERSION:2.0
METHOD:PUBLISH
BEGIN:VEVENT
DTSTAMP:20260420T105253Z
CREATED:20141217T125417Z
UID:ATEvent-55cad5864f86429c9b87ee6ecb5ca70b
LAST-MODIFIED:20190918T152852Z
SUMMARY:Fault Detection\, Supervision and Safety of Technical Processes - 9th SAFEPROCESS 2015™
DTSTART:20150902T115500Z
DTEND:20150904T115500Z
DESCRIPTION:IFAC Symposium on
LOCATION:Paris\, FRANCE
CONTACT:IFAC Safeprocess 2015 Secretariat\, contact@safeprocess2015.fr
URL:http://safeprocess15.sciencesconf.org/
CLASS:PUBLIC
END:VEVENT
END:VCALENDAR
