BEGIN:VCALENDAR
PRODID:-//AT Content Types//AT Event//EN
VERSION:2.0
METHOD:PUBLISH
BEGIN:VEVENT
DTSTAMP:20260420T145749Z
CREATED:20231214T131408Z
UID:ATEvent-75c48ba972ca46e39fc9af837a969186
LAST-MODIFIED:20240216T092533Z
SUMMARY:Foundations of Engineering in Biology - 10th FOSBE 2024
DTSTART:20240908T121500Z
DTEND:20240911T121500Z
DESCRIPTION:IFAC/CACHE Conference on
LOCATION:Corfu Island\, GREECE
URL:https://fosbe2024.iceht.forth.gr/
CLASS:PUBLIC
END:VEVENT
END:VCALENDAR
