BEGIN:VCALENDAR
PRODID:-//AT Content Types//AT Event//EN
VERSION:2.0
METHOD:PUBLISH
BEGIN:VEVENT
DTSTAMP:20260421T120752Z
CREATED:20231103T081151Z
UID:ATEvent-68ee38ff25db4edf9ab713d05635d097
LAST-MODIFIED:20231108T090125Z
SUMMARY:Fractional Differentiation and its Applications - 12th ICFDA 2024
DTSTART:20240709T071000Z
DTEND:20240712T091000Z
DESCRIPTION:IFAC Conference on
LOCATION:Bordeaux\, FRANCE
URL:https://icfda2024.sciencesconf.org/
CLASS:PUBLIC
END:VEVENT
END:VCALENDAR
