BEGIN:VCALENDAR
PRODID:-//AT Content Types//AT Event//EN
VERSION:2.0
METHOD:PUBLISH
BEGIN:VEVENT
DTSTAMP:20260423T124639Z
CREATED:20260401T092827Z
UID:ATEvent-f7bfbb04308c4108961461d528e06371
LAST-MODIFIED:20260401T092912Z
SUMMARY:Fractional Differentiation and its Applications - 14th ICFDA 2027
DTSTART:20270823T093000Z
DTEND:20270826T093000Z
DESCRIPTION:IFAC Conference on
LOCATION:Delft\, NETHERLANDS
CLASS:PUBLIC
END:VEVENT
END:VCALENDAR
