BEGIN:VCALENDAR
PRODID:-//AT Content Types//AT Event//EN
VERSION:1.0
BEGIN:VEVENT
DTSTART:20260823T101500Z
DTEND:20260828T101500Z
DCREATED:20210814T101529Z
UID:ATEvent-c1539b4334664491bbc19a1f5ca67895
SEQUENCE:0
LAST-MODIFIED:20230704T050517Z
SUMMARY:IFAC World Congress - 23rd WC 2026™
LOCATION:Busan\, REPUBLIC OF KOREA
PRIORITY:3
TRANSP:0
END:VEVENT
END:VCALENDAR
