BEGIN:VCALENDAR
PRODID:-//AT Content Types//AT Event//EN
VERSION:1.0
BEGIN:VEVENT
DTSTART:20180729T104000Z
DTEND:20180731T104000Z
DCREATED:20180125T114537Z
UID:ATEvent-96b8bfd9a1fe4505a98537bfd62dbc09
SEQUENCE:0
LAST-MODIFIED:20180625T082717Z
SUMMARY:Informatics in Control\, Automation and Robotics - 15th ICINCO 2018
DESCRIPTION:INSTICC Conference (in cooperation with IFAC)
LOCATION:Porto\, PORTUGAL
PRIORITY:3
TRANSP:0
END:VEVENT
END:VCALENDAR
