BEGIN:VCALENDAR
PRODID:-//AT Content Types//AT Event//EN
VERSION:2.0
METHOD:PUBLISH
BEGIN:VEVENT
DTSTAMP:20260421T214405Z
CREATED:20140508T115644Z
UID:ATEvent-533a2f9599154b23a78c254b1fa25cea
LAST-MODIFIED:20190917T115452Z
SUMMARY:Information Control Problems in Manufacturing - 15th INCOM 2015™
DTSTART:20150511T115500Z
DTEND:20150513T175500Z
DESCRIPTION:IFAC IEEE\, IFIP\, IFORS Symposium on
LOCATION:Ottawa\, CANADA
URL:http://incom2015.org/index.html
CLASS:PUBLIC
END:VEVENT
END:VCALENDAR
