BEGIN:VCALENDAR
PRODID:-//AT Content Types//AT Event//EN
VERSION:2.0
METHOD:PUBLISH
BEGIN:VEVENT
DTSTAMP:20260424T013035Z
CREATED:20210611T071635Z
UID:ATEvent-df8a10cd76094646880844f4c68bc4eb
LAST-MODIFIED:20210910T145744Z
SUMMARY:Integrated Assessment Modelling for Environmental Systems - 2nd IAMES 2022™
DTSTART:20220601T071500Z
DTEND:20220603T071500Z
DESCRIPTION:IFAC Workshop on
LOCATION:Tarbes\, FRANCE
CONTACT:francois.peres@enit.fr
URL:https://iames2022.sciencesconf.org/
CLASS:PUBLIC
END:VEVENT
END:VCALENDAR
