BEGIN:VCALENDAR
PRODID:-//AT Content Types//AT Event//EN
VERSION:1.0
BEGIN:VEVENT
DTSTART:20190812T093500Z
DTEND:20190814T093500Z
DCREATED:20181019T093526Z
UID:ATEvent-9572e1811a9b4d1aa4b98750d167b526
SEQUENCE:0
LAST-MODIFIED:20190917T122242Z
SUMMARY:Intelligent Manufacturing Systems - 13th IMS 2019™
DESCRIPTION:IFAC Workshop on
LOCATION:Oshawa\, CANADA
PRIORITY:3
TRANSP:0
END:VEVENT
END:VCALENDAR
