BEGIN:VCALENDAR
PRODID:-//AT Content Types//AT Event//EN
VERSION:1.0
BEGIN:VEVENT
DTSTART:20240918T082500Z
DTEND:20240920T082500Z
DCREATED:20230525T082353Z
UID:ATEvent-1087eb559c0842d7812e762179adc131
SEQUENCE:0
LAST-MODIFIED:20240125T081544Z
SUMMARY:Internet Based Control Education - 4th IBCE 2024™
DESCRIPTION:IFAC Workshop on
LOCATION:Ghent\, BELGIUM
PRIORITY:3
TRANSP:0
END:VEVENT
END:VCALENDAR
