BEGIN:VCALENDAR
PRODID:-//AT Content Types//AT Event//EN
VERSION:2.0
METHOD:PUBLISH
BEGIN:VEVENT
DTSTAMP:20260420T134104Z
CREATED:20240802T081431Z
UID:ATEvent-67b615c86a4f40538b94570be021169d
LAST-MODIFIED:20241010T093612Z
SUMMARY:Linear Parameter Varying Systems - 6th LPVS 2025™
DTSTART:20250702T081500Z
DTEND:20250704T081500Z
DESCRIPTION:IFAC Workshop on
LOCATION:Porto\, PORTUGAL
URL:https://conferences.ifac-control.org/lpvs2025/
CLASS:PUBLIC
END:VEVENT
END:VCALENDAR
