BEGIN:VCALENDAR
PRODID:-//AT Content Types//AT Event//EN
VERSION:1.0
BEGIN:VEVENT
DTSTART:20220912T092000Z
DTEND:20220916T092000Z
DCREATED:20210527T092142Z
UID:ATEvent-8dc86799dd0e48f79b80024f4d73d8bc
SEQUENCE:0
LAST-MODIFIED:20210527T092209Z
SUMMARY:Mathematical Theory of Networks and Systems (in cooperation with IFAC) - 25th MTNS 2022
DESCRIPTION:International Symposium on
LOCATION:Bayreuth\, GERMANY
PRIORITY:3
TRANSP:0
END:VEVENT
END:VCALENDAR
