BEGIN:VCALENDAR
PRODID:-//AT Content Types//AT Event//EN
VERSION:1.0
BEGIN:VEVENT
DTSTART:20260817T080500Z
DTEND:20260821T080500Z
DCREATED:20250505T080438Z
UID:ATEvent-cb2e8c93c0b64eeb9bf02e63dc31a0ee
SEQUENCE:0
LAST-MODIFIED:20250505T080442Z
SUMMARY:Mathematical Theory of Networks and Systems (in cooperation with IFAC) - 27th MTNS 2026
DESCRIPTION:International Symposium on
LOCATION:Waterloo\, ON\, CANADA
PRIORITY:3
TRANSP:0
END:VEVENT
END:VCALENDAR
