BEGIN:VCALENDAR
PRODID:-//AT Content Types//AT Event//EN
VERSION:1.0
BEGIN:VEVENT
DTSTART:20241027T135000Z
DTEND:20241030T135000Z
DCREATED:20231107T135135Z
UID:ATEvent-598dcfb51cb34ef9b3e1e4e18ff6614c
SEQUENCE:0
LAST-MODIFIED:20231107T135143Z
SUMMARY:Modeling\, Estimation\, and Control Conference - 4th MECC 2024
DESCRIPTION:AACC\, IFAC Conference on
LOCATION:Chicago (IL)\, USA
PRIORITY:3
TRANSP:0
END:VEVENT
END:VCALENDAR
