BEGIN:VCALENDAR
PRODID:-//AT Content Types//AT Event//EN
VERSION:2.0
METHOD:PUBLISH
BEGIN:VEVENT
DTSTAMP:20260423T065703Z
CREATED:20240409T060917Z
UID:ATEvent-213acc4febb14488abe3cf9ec93ba617
LAST-MODIFIED:20240409T060927Z
SUMMARY:Modelling and Simulation - 2nd SIMS EUROSIM 2024
DTSTART:20240910T061000Z
DTEND:20240912T061000Z
DESCRIPTION:Conference on
LOCATION:Oulu\, FINLAND
URL:https://www.scansims.org/events.php?sid=39&src=db1557571001&udpview=show-conference
CLASS:PUBLIC
END:VEVENT
END:VCALENDAR
