BEGIN:VCALENDAR
PRODID:-//AT Content Types//AT Event//EN
VERSION:2.0
METHOD:PUBLISH
BEGIN:VEVENT
DTSTAMP:20260420T212419Z
CREATED:20240503T085215Z
UID:ATEvent-a54e9a4ff7274a2188fc8ed292c122dd
LAST-MODIFIED:20240923T095249Z
SUMMARY:Intelligent Control and Automation Sciences - 7th ICONS 2025™
DTSTART:20250915T085500Z
DTEND:20250918T085500Z
DESCRIPTION:IFAC Conference on
LOCATION:Padova\, ITALY
URL:https://j3c.org/
CLASS:PUBLIC
END:VEVENT
END:VCALENDAR
