BEGIN:VCALENDAR
PRODID:-//AT Content Types//AT Event//EN
VERSION:1.0
BEGIN:VEVENT
DTSTART:20191029T091500Z
DTEND:20191031T091500Z
DCREATED:20180911T081439Z
UID:ATEvent-05f36f1dc4cf4b3aa1a22999ed203042
SEQUENCE:0
LAST-MODIFIED:20190920T133631Z
SUMMARY:Programmable Devices and Embedded Systems - 16th PDES 2019
DESCRIPTION:IFAC IEEE (Czechoslovakia Section) Conference on
LOCATION:High Tatras\, SLOVAKIA
PRIORITY:3
TRANSP:0
END:VEVENT
END:VCALENDAR
