BEGIN:VCALENDAR
PRODID:-//AT Content Types//AT Event//EN
VERSION:1.0
BEGIN:VEVENT
DTSTART:20260916T073500Z
DTEND:20260917T073500Z
DCREATED:20251031T083604Z
UID:ATEvent-f1278d1790904fc29fc8a998842a6d8f
SEQUENCE:0
LAST-MODIFIED:20251203T081629Z
SUMMARY:Scandinavian Simulation Society - 67th SIMS 2026
DESCRIPTION:SIMS/IFAC International Conference of
LOCATION:Eskilstuna\, SWEDEN
PRIORITY:3
TRANSP:0
END:VEVENT
END:VCALENDAR
