BEGIN:VCALENDAR
PRODID:-//AT Content Types//AT Event//EN
VERSION:1.0
BEGIN:VEVENT
DTSTART:20220914T112500Z
DTEND:20220916T112500Z
DCREATED:20210819T112920Z
UID:ATEvent-3d025dcb7c0b43a6b846321db9e28394
SEQUENCE:0
LAST-MODIFIED:20220112T081355Z
SUMMARY:Sensing\, Control and Automation Technologies for Agriculture - 7th AGRICONTROL 2022™
DESCRIPTION:IFAC Conference on
LOCATION:Munich\, GERMANY
PRIORITY:3
TRANSP:0
END:VEVENT
END:VCALENDAR
