BEGIN:VCALENDAR
PRODID:-//AT Content Types//AT Event//EN
VERSION:1.0
BEGIN:VEVENT
DTSTART:20210713T074000Z
DTEND:20210716T074000Z
DCREATED:20191120T084021Z
UID:ATEvent-fe4ba15f7eab435a9bd44e9787369eef
SEQUENCE:0
LAST-MODIFIED:20210316T095243Z
SUMMARY:System Identification: learning models for decision and control - 19th SYSID 2021™
DESCRIPTION:IFAC Symposium on
LOCATION:Padova\, ITALY
PRIORITY:3
TRANSP:0
END:VEVENT
END:VCALENDAR
