BEGIN:VCALENDAR
PRODID:-//AT Content Types//AT Event//EN
VERSION:1.0
BEGIN:VEVENT
DTSTART:20220615T105000Z
DTEND:20220617T105000Z
DCREATED:20210629T105301Z
UID:ATEvent-52bf95ae6a0547878a6388a2c6efb817
SEQUENCE:0
LAST-MODIFIED:20211122T112137Z
SUMMARY:Telematics Applications - 6th TA 2022™
LOCATION:Nancy\, FRANCE
PRIORITY:3
TRANSP:0
END:VEVENT
END:VCALENDAR
