BEGIN:VCALENDAR
PRODID:-//AT Content Types//AT Event//EN
VERSION:2.0
METHOD:PUBLISH
BEGIN:VEVENT
DTSTAMP:20260420T143742Z
CREATED:20240411T081651Z
UID:ATEvent-b8c891ff6ce1492395a2f4fa40ef27a8
LAST-MODIFIED:20240923T095124Z
SUMMARY:Telematics Applications - 7th TA 2025™
DTSTART:20250915T082000Z
DTEND:20250918T082000Z
DESCRIPTION:IFAC Symposium on
LOCATION:Padova\, ITALY
URL:https://j3c.org/
CLASS:PUBLIC
END:VEVENT
END:VCALENDAR
